BEGIN:VCALENDAR
VERSION:2.0
PRODID:http://pfarrei-ludwigsstadt.de
BEGIN:VEVENT
UID:059389af-364e-11f1-a8bf-0242ac11002b-1778432400000-de
DTSTAMP:20260412T090015Z
DTSTART:20260510T170000Z
DTEND:20260510T180000Z
SUMMARY;LANGUAGE=de:"Zum Glück...." mit viel Musik und Gedanken
DESCRIPTION;LANGUAGE=de:Andacht mit Schlagern\, Rock & Pop\, Swing und Jazzklassikern
END:VEVENT
END:VCALENDAR
