BEGIN:VCALENDAR
VERSION:2.0
PRODID:http://pfarrei-ludwigsstadt.de
BEGIN:VEVENT
UID:2f8df502-3bce-11f1-a8bf-0242ac11002b-1779001200000-de
DTSTAMP:20260419T090017Z
DTSTART:20260517T070000Z
DTEND:20260517T083000Z
SUMMARY;LANGUAGE=de:Festgottesdienst anlässlich 151 Jahre Freiwillige Feuerwehr Reundorf
DESCRIPTION;LANGUAGE=de:im Festszelt
END:VEVENT
END:VCALENDAR
