BEGIN:VCALENDAR
VERSION:2.0
PRODID:http://pfarrei-ludwigsstadt.de
BEGIN:VEVENT
UID:359958ee-3bce-11f1-a8bf-0242ac11002b-1779033600000-de
DTSTAMP:20260419T090027Z
DTSTART:20260517T160000Z
DTEND:20260517T170000Z
SUMMARY;LANGUAGE=de:Eucharistiefeier für die Pfarrgemeinden im Seelsorgebereich
END:VEVENT
END:VCALENDAR
