BEGIN:VCALENDAR
VERSION:2.0
PRODID:http://pfarrei-ludwigsstadt.de
BEGIN:VEVENT
UID:3904bef7-3bce-11f1-a8bf-0242ac11002b-1779004800000-de
DTSTAMP:20260419T090033Z
DTSTART:20260517T080000Z
DTEND:20260517T090000Z
SUMMARY;LANGUAGE=de:Hl. Messe zum Hochfest Christi Himmelfahrt, anschließend Fahrzeugsegnung
END:VEVENT
END:VCALENDAR
