BEGIN:VCALENDAR
VERSION:2.0
PRODID:http://pfarrei-ludwigsstadt.de
BEGIN:VEVENT
UID:3aabb886-3bce-11f1-a8bf-0242ac11002b-1779004800000-de
DTSTAMP:20260419T090035Z
DTSTART:20260517T080000Z
DTEND:20260517T090000Z
SUMMARY;LANGUAGE=de:Festgottesdienst mit Feier der Jubelkommunion als Dankgottesdienst für die verstorbenen Jubilare
END:VEVENT
END:VCALENDAR
