BEGIN:VCALENDAR
VERSION:2.0
PRODID:http://pfarrei-ludwigsstadt.de
BEGIN:VEVENT
UID:5db83a79-2e72-11f1-a8bf-0242ac11002b-1777564800000-de
DTSTAMP:20260402T090015Z
DTSTART:20260430T160000Z
DTEND:20260430T173000Z
SUMMARY;LANGUAGE=de:Hl. Messe für die FFW Mönchsambach mit Pumpenweihe
END:VEVENT
END:VCALENDAR
