BEGIN:VCALENDAR
VERSION:2.0
PRODID:http://pfarrei-ludwigsstadt.de
BEGIN:VEVENT
UID:672c6323-37e0-11f1-a8bf-0242ac11002b-1778517000000-de
DTSTAMP:20260414T090036Z
DTSTART:20260511T163000Z
DTEND:20260511T173000Z
SUMMARY;LANGUAGE=de:Bittgang nach Rodheim anschl. Eucharistiefeier
END:VEVENT
END:VCALENDAR
