BEGIN:VCALENDAR
VERSION:2.0
PRODID:http://pfarrei-ludwigsstadt.de
BEGIN:VEVENT
UID:836886c8-38a9-11f1-a8bf-0242ac11002b-1778688000000-de
DTSTAMP:20260415T090013Z
DTSTART:20260513T160000Z
DTEND:20260513T170000Z
SUMMARY;LANGUAGE=de:Wortgottesfeier mit Maiandacht an der Waldkapelle Unterneuses
END:VEVENT
END:VCALENDAR
