BEGIN:VCALENDAR
VERSION:2.0
PRODID:http://pfarrei-ludwigsstadt.de
BEGIN:VEVENT
UID:8788fcd8-33f2-11f1-a8bf-0242ac11002b-1778173200000-de
DTSTAMP:20260409T090017Z
DTSTART:20260507T170000Z
DTEND:20260507T180000Z
SUMMARY;LANGUAGE=de:Hl. Messe, anschl. Aussetzung des Allerheiligsten
DESCRIPTION;LANGUAGE=de:zum Hl. Herz Jesu u. für geistliche Berufungen
END:VEVENT
END:VCALENDAR
