BEGIN:VCALENDAR
VERSION:2.0
PRODID:http://pfarrei-ludwigsstadt.de
BEGIN:VEVENT
UID:a739e472-3972-11f1-a8bf-0242ac11002b-1778743800000-de
DTSTAMP:20260416T090001Z
DTSTART:20260514T073000Z
DTEND:20260514T083000Z
SUMMARY;LANGUAGE=de:Eucharistiefeier mit Herrn Domdekan Dr. Hubert Schiepek (Domkapitel)
END:VEVENT
END:VCALENDAR
