BEGIN:VCALENDAR
VERSION:2.0
PRODID:http://pfarrei-ludwigsstadt.de
BEGIN:VEVENT
UID:aa3d1c9f-3004-11f1-a8bf-0242ac11002b-1777734000000-de
DTSTAMP:20260404T090001Z
DTSTART:20260502T150000Z
DTEND:20260502T160000Z
SUMMARY;LANGUAGE=de:Vorabendmesse in den Anliegen der Dompfarrei musikalisch gestaltet vom Dompfarrchor zur Domkirchweih
DESCRIPTION;LANGUAGE=de:Parkerlaubnis Domplatz von 16:30 Uhr bis 21:00 Uhr
END:VEVENT
END:VCALENDAR
