BEGIN:VCALENDAR
VERSION:2.0
PRODID:http://pfarrei-ludwigsstadt.de
BEGIN:VEVENT
UID:aced0fd0-36ba-11f1-a8bf-0242ac11002b-1777618800000-de
DTSTAMP:20260412T215801Z
DTSTART:20260501T070000Z
DTEND:20260501T080000Z
SUMMARY;LANGUAGE=de:Ewige Anbetung; Eucharistische Andacht mit Aussetzung des Allerheiligsten
DESCRIPTION;LANGUAGE=de:anschließend Betstunde
END:VEVENT
END:VCALENDAR
