BEGIN:VCALENDAR
VERSION:2.0
PRODID:http://pfarrei-ludwigsstadt.de
BEGIN:VEVENT
UID:b411f435-34bb-11f1-a8bf-0242ac11002b-1778257800000-de
DTSTAMP:20260410T090020Z
DTSTART:20260508T163000Z
DTEND:20260508T170000Z
SUMMARY;LANGUAGE=de:Maiandacht gest. v. d. Landfrauen m. Chor aus Hohenpölz
END:VEVENT
END:VCALENDAR
