BEGIN:VCALENDAR
VERSION:2.0
PRODID:http://pfarrei-ludwigsstadt.de
BEGIN:VEVENT
UID:ccfdd4f6-36ba-11f1-a8bf-0242ac11002b-1777813200000-de
DTSTAMP:20260412T215855Z
DTSTART:20260503T130000Z
DTEND:20260503T140000Z
SUMMARY;LANGUAGE=de:Ewige Anbetung; Eucharistische Andacht mit Aussetzung des Allerheiligsten
DESCRIPTION;LANGUAGE=de:1. Kinderbetstunde
END:VEVENT
END:VCALENDAR
