BEGIN:VCALENDAR
VERSION:2.0
PRODID:http://pfarrei-ludwigsstadt.de
BEGIN:VEVENT
UID:da73bfd1-3584-11f1-a8bf-0242ac11002b-1778342400000-de
DTSTAMP:20260411T090014Z
DTSTART:20260509T160000Z
DTEND:20260509T170000Z
SUMMARY;LANGUAGE=de:Hl. Messe - 25 Jahre Gemeindebücherei Pettstadt
END:VEVENT
END:VCALENDAR
