BEGIN:VCALENDAR
VERSION:2.0
PRODID:http://pfarrei-ludwigsstadt.de
BEGIN:VEVENT
UID:df1c92d7-329a-11f1-a8bf-0242ac11002b-1777912200000-de
DTSTAMP:20260407T160017Z
DTSTART:20260504T163000Z
DTEND:20260504T173000Z
SUMMARY;LANGUAGE=de:Wort-Gottes-Feier, mit Gebetsanliegen für lebende u. verstorbene Mitglieder der Freiwilligen Feuerwehr Ebing
DESCRIPTION;LANGUAGE=de:Festgottesdienst zum Hl. Florian mit FFW Ebing
END:VEVENT
END:VCALENDAR
