BEGIN:VCALENDAR
VERSION:2.0
PRODID:http://pfarrei-ludwigsstadt.de
BEGIN:VEVENT
UID:e329671e-2c16-11f1-a15b-0242ac11002b-1777278600000-de
DTSTAMP:20260330T090023Z
DTSTART:20260427T083000Z
DTEND:20260427T093000Z
SUMMARY;LANGUAGE=de:Dankgottesdienst der Erstkommunionkinder Rattelsdorf u. Ebing
END:VEVENT
END:VCALENDAR
