BEGIN:VCALENDAR
VERSION:2.0
PRODID:http://pfarrei-ludwigsstadt.de
BEGIN:VEVENT
UID:e3470f90-30cd-11f1-a8bf-0242ac11002b-1777824000000-de
DTSTAMP:20260405T090026Z
DTSTART:20260503T160000Z
DTEND:20260503T170000Z
SUMMARY;LANGUAGE=de:Eucharistiefeier für die Pfarrgemeinden im Seelsorgebereich
END:VEVENT
END:VCALENDAR
